BEGIN:VCALENDAR
VERSION:2.0
PRODID:EVENTFROG//EVENT//ICAL
BEGIN:VEVENT
UID:20260419T130248Z-7441412985501830655@eventfrog.at
DTSTAMP:20260419T130248Z
DTSTART:20260527T120000Z
DTEND:20260527T150000Z
SUMMARY:Malkurs Plain Air
DESCRIPTION:Plein Air Malkurs erkundet jahreszeitliche Stimmungen mit Zeichnen und Malen, bei Regen auch im Atelier.\n\nhttps://eventfrog.at/de/p/diverses/malkurs-plain-air-7441412985501830655.html
LOCATION:Atelier Malkurse Elisa Sadeghi
GEO:47.199108;7.385606
URL:https://eventfrog.at/de/p/diverses/malkurs-plain-air-7441412985501830655.html
END:VEVENT
END:VCALENDAR