BEGIN:VCALENDAR
VERSION:2.0
PRODID:EVENTFROG//EVENT//ICAL
BEGIN:VEVENT
UID:20260422T045240Z-7441255938038715364@eventfrog.at
DTSTAMP:20260422T045240Z
DTSTART:20260423T154500Z
SUMMARY:Romería
DESCRIPTION:Romería\n\nhttps://eventfrog.at/de/p/freizeit-ausfluege/romeria-7441255938038715364.html
LOCATION:Kino Cameo
GEO:47.494450;8.718060
URL:https://eventfrog.at/de/p/freizeit-ausfluege/romeria-7441255938038715364.html
END:VEVENT
END:VCALENDAR