BEGIN:VCALENDAR
VERSION:2.0
PRODID:EVENTFROG//EVENT//ICAL
BEGIN:VEVENT
UID:20260419T141934Z-7440729554233109831@eventfrog.at
DTSTAMP:20260419T141934Z
DTSTART:20261001T070000Z
DTEND:20261001T093000Z
SUMMARY:E-Bike Kurs «amusebike» – pedalen und geniessen
DESCRIPTION:E-Bike-Kurs für Personen ab 50 Jahren: 2,5 Stunden Fahrpraxis, Sicherheitstipps und gemütlicher Ausklang mit Verköstigung.\n\nhttps://eventfrog.at/de/p/kurse-seminare/freizeit-hobby/e-bike-kurs-amusebike-pedalen-und-geniessen-7440729554233109831.html
LOCATION:Schulhaus Eichholz
GEO:47.184656;7.397236
URL:https://eventfrog.at/de/p/kurse-seminare/freizeit-hobby/e-bike-kurs-amusebike-pedalen-und-geniessen-7440729554233109831.html
END:VEVENT
END:VCALENDAR