BEGIN:VCALENDAR
VERSION:2.0
PRODID:EVENTFROG//EVENT//ICAL
BEGIN:VEVENT
UID:20260422T113300Z-7440697061668849535@eventfrog.at
DTSTAMP:20260422T113300Z
DTSTART:20260513T200000Z
DTEND:20260514T030000Z
SUMMARY:𝑳𝑺𝑫 𝑭𝑬𝑺𝑻𝑰𝑽𝑨𝑳
DESCRIPTION: Party\n\nhttps://eventfrog.at/de/p/partys/studentenparty/-7440697061668849535.html
LOCATION:LSD 2026
GEO:47.177707;8.514409
URL:https://eventfrog.at/de/p/partys/studentenparty/-7440697061668849535.html
END:VEVENT
END:VCALENDAR