BEGIN:VCALENDAR
VERSION:2.0
PRODID:EVENTFROG//EVENT//ICAL
BEGIN:VEVENT
UID:20260422T044115Z-7440696489452520392@eventfrog.at
DTSTAMP:20260422T044115Z
DTSTART:20260423T173000Z
SUMMARY:Buchvernissage: Brigitta Winkelried - Tod am Matterhorn
DESCRIPTION:Musikalische Begleitung von Beat Seiler und Tony Eggel.\n\nhttps://eventfrog.at/de/p/theater-buehne/lesung/buchvernissage-brigitta-winkelried-tod-am-matterhorn-7440696489452520392.html
LOCATION:Buchhandlung ZAP
GEO:46.316800;7.987550
URL:https://eventfrog.at/de/p/theater-buehne/lesung/buchvernissage-brigitta-winkelried-tod-am-matterhorn-7440696489452520392.html
END:VEVENT
END:VCALENDAR