BEGIN:VCALENDAR
VERSION:2.0
PRODID:EVENTFROG//EVENT//ICAL
BEGIN:VEVENT
UID:20260422T033950Z-7440695583357039000@eventfrog.at
DTSTAMP:20260422T033950Z
DTSTART:20260422T173000Z
SUMMARY:Buchvernissage: Michael Hugentobler - Bis die Bären tanzen
DESCRIPTION:Ein zugänglicher, menschlich warmer und überbordend fantasievoller Roman über (Bären-)Masken, Meere und fliegende Menschen.\n\nhttps://eventfrog.at/de/p/theater-buehne/lesung/buchvernissage-michael-hugentobler-bis-die-baeren-tanzen-7440695583357039000.html
LOCATION:Buchhandlung Orell Füssli Wirz AG
GEO:47.391281;8.045380
URL:https://eventfrog.at/de/p/theater-buehne/lesung/buchvernissage-michael-hugentobler-bis-die-baeren-tanzen-7440695583357039000.html
END:VEVENT
END:VCALENDAR