BEGIN:VCALENDAR
VERSION:2.0
PRODID:EVENTFROG//EVENT//ICAL
BEGIN:VEVENT
UID:20260422T013151Z-7440402385355172708@eventfrog.at
DTSTAMP:20260422T013151Z
DTSTART:20260530T150000Z
DTEND:20260530T230000Z
SUMMARY:BLICKPUNKT-Rooftop Day Party
DESCRIPTION:BLICKPUNKT und KUBUS Eventlokal präsentieren EUCH am Samstag 30. Mai 2026 den SOMMEREVENT 2026 in BERN !\n\n \n\nBLICKPUNKT-ROOFTOP Day Party auf der 360 KUBUS Dachterrasse.\n\nVon oben sieht die Welt ganz\n\nhttps://eventfrog.at/de/p/partys/house-techno/blickpunkt-rooftop-day-party-7440402385355172708.html
LOCATION:Kubus Eventlokal Bern
GEO:46.939220;7.400192
URL:https://eventfrog.at/de/p/partys/house-techno/blickpunkt-rooftop-day-party-7440402385355172708.html
END:VEVENT
END:VCALENDAR