BEGIN:VCALENDAR
VERSION:2.0
PRODID:EVENTFROG//EVENT//ICAL
BEGIN:VEVENT
UID:20260419T130319Z-7440402085378539418@eventfrog.at
DTSTAMP:20260419T130319Z
DTSTART:20260423T220000Z
DTEND:20260425T220000Z
SUMMARY:10. Internationaler Zauberkongress in Grenchen
DESCRIPTION:Der 10. Internationale Zauberkongress in Grenchen findet vom 24. bis 26. April 2026 im Parktheater statt.\n\nhttps://eventfrog.at/de/p/diverses/10-internationaler-zauberkongress-in-grenchen-7440402085378539418.html
LOCATION:Parktheater Grenchen
GEO:47.191718;7.391284
URL:https://eventfrog.at/de/p/diverses/10-internationaler-zauberkongress-in-grenchen-7440402085378539418.html
END:VEVENT
END:VCALENDAR