BEGIN:VCALENDAR
VERSION:2.0
PRODID:EVENTFROG//EVENT//ICAL
BEGIN:VEVENT
UID:20260423T155926Z-7440310704706442232@eventfrog.at
DTSTAMP:20260423T155926Z
DTSTART:20260429T120000Z
DTEND:20260429T140000Z
SUMMARY:LinthSplash
DESCRIPTION:Am 25. März findet der «LinthSplash» für Kinder ab 10 Jahren im Schwimmbecken statt; limitierte Plätze, keine Reservierung möglich.\n\nhttps://eventfrog.at/de/p/kinderveranstaltungen/familienveranstaltungen/linthsplash-7440310704706442232.html
LOCATION:Lintharena
GEO:47.108094;9.065551
URL:https://eventfrog.at/de/p/kinderveranstaltungen/familienveranstaltungen/linthsplash-7440310704706442232.html
END:VEVENT
END:VCALENDAR