BEGIN:VCALENDAR
VERSION:2.0
PRODID:EVENTFROG//EVENT//ICAL
BEGIN:VEVENT
UID:20260422T071504Z-7440079057432134165@eventfrog.at
DTSTAMP:20260422T071504Z
DTSTART:20260819T140000Z
DTEND:20260819T145000Z
SUMMARY:Bewegung und Gymnastik 66plus
DESCRIPTION:Ganzheitliches Turnen mit Sigrid H. Bachofner mittwochs 16-16.50 Uhr im Kirchgemeindehaus Bülach, CHF 10.-, ohne Anmeldung.\n\nhttps://eventfrog.at/de/p/sport-fitness/fitness/bewegung-und-gymnastik-66plus-7440079057432134165.html
LOCATION:Ref. Kirchgemeindehaus
GEO:47.516746;8.538084
URL:https://eventfrog.at/de/p/sport-fitness/fitness/bewegung-und-gymnastik-66plus-7440079057432134165.html
END:VEVENT
END:VCALENDAR