BEGIN:VCALENDAR
VERSION:2.0
PRODID:EVENTFROG//EVENT//ICAL
BEGIN:VEVENT
UID:20260422T013222Z-7439968147061394715@eventfrog.at
DTSTAMP:20260422T013222Z
DTSTART:20260425T210000Z
DTEND:20260426T013000Z
SUMMARY:FLY – Party like 2016 (16+)
DESCRIPTION:FLY – Party like 2016 (16+)\n\nhttps://eventfrog.at/de/p/partys/charts-open-format/fly-party-like-2016-16-7439968147061394715.html
LOCATION:Stellwerk
GEO:46.949621;7.438266
URL:https://eventfrog.at/de/p/partys/charts-open-format/fly-party-like-2016-16-7439968147061394715.html
END:VEVENT
END:VCALENDAR