BEGIN:VCALENDAR
VERSION:2.0
PRODID:EVENTFROG//EVENT//ICAL
BEGIN:VEVENT
UID:20260422T113300Z-7439951902224164034@eventfrog.at
DTSTAMP:20260422T113300Z
DTSTART:20260712T160000Z
DTEND:20260712T180000Z
SUMMARY:Jugend Circus Basilisk - 57. Tournée (Première - Zug)
DESCRIPTION:Jugend Circus Basilisk - 57. Tournée\n\nhttps://eventfrog.at/de/p/kinderveranstaltungen/kinderzirkus/jugend-circus-basilisk-57-tournee-premiere-zug-7439951902224164034.html
LOCATION:Stierenmarktareal, Zug
GEO:47.175436;8.505270
URL:https://eventfrog.at/de/p/kinderveranstaltungen/kinderzirkus/jugend-circus-basilisk-57-tournee-premiere-zug-7439951902224164034.html
END:VEVENT
END:VCALENDAR