BEGIN:VCALENDAR
VERSION:2.0
PRODID:EVENTFROG//EVENT//ICAL
BEGIN:VEVENT
UID:20260422T045232Z-7439654062654494569@eventfrog.at
DTSTAMP:20260422T045232Z
DTSTART:20260422T120000Z
DTEND:20260422T140000Z
SUMMARY:Kinderkurs «Schreiben wie zu Dunants Zeiten»
DESCRIPTION:Kinder-Schreibkurs: Schreibe mit Tinte und Feder wie zu Dunants Zeiten und tauche in den Postalltag damals ein!\n\nhttps://eventfrog.at/de/p/kinderveranstaltungen/kurs/kinderkurs-schreiben-wie-zu-dunants-zeiten-7439654062654494569.html
LOCATION:Museum Henry Dunant
GEO:47.443376;9.531407
URL:https://eventfrog.at/de/p/kinderveranstaltungen/kurs/kinderkurs-schreiben-wie-zu-dunants-zeiten-7439654062654494569.html
END:VEVENT
END:VCALENDAR