BEGIN:VCALENDAR
VERSION:2.0
PRODID:EVENTFROG//EVENT//ICAL
BEGIN:VEVENT
UID:20260422T060616Z-7439444891216665584@eventfrog.at
DTSTAMP:20260422T060616Z
DTSTART:20260604T070000Z
SUMMARY:Stadtmarkt St.Gallen
DESCRIPTION:Gemütlicher Markt im Herzen der Stadt.\n\nhttps://eventfrog.at/de/p/diverses/stadtmarkt-st-gallen-7439444891216665584.html
LOCATION:Marktgasse
GEO:47.425990;9.376470
URL:https://eventfrog.at/de/p/diverses/stadtmarkt-st-gallen-7439444891216665584.html
END:VEVENT
END:VCALENDAR