BEGIN:VCALENDAR
VERSION:2.0
PRODID:EVENTFROG//EVENT//ICAL
BEGIN:VEVENT
UID:20260422T060016Z-7439441760491730039@eventfrog.at
DTSTAMP:20260422T060016Z
DTSTART:20260422T170000Z
SUMMARY:Earth Day
DESCRIPTION:Themenabend in der Sternwarte.\n\nhttps://eventfrog.at/de/p/wissenschaft-und-technik/earth-day-7439441760491730039.html
LOCATION:Planetarium | Bodensee
GEO:47.641511;9.159443
URL:https://eventfrog.at/de/p/wissenschaft-und-technik/earth-day-7439441760491730039.html
END:VEVENT
END:VCALENDAR