BEGIN:VCALENDAR
VERSION:2.0
PRODID:EVENTFROG//EVENT//ICAL
BEGIN:VEVENT
UID:20260422T045253Z-7439291787544386451@eventfrog.at
DTSTAMP:20260422T045253Z
DTSTART:20260422T163000Z
DTEND:20260422T180000Z
SUMMARY:Vortrag: Raus aus der Erschöpfung!
DESCRIPTION:Wie gewinne ich erholsamem Schlaf und Energie zurück? Ein praxisnaher Vortrag von der Lungenliga Bern und der upswing GmbH\n\nhttps://eventfrog.at/de/p/gesundheit-spiritualitaet/gesundheit-wohlbefinden/vortrag-raus-aus-der-erschoepfung-7439291787544386451.html
LOCATION:upswing
GEO:47.259082;8.851021
URL:https://eventfrog.at/de/p/gesundheit-spiritualitaet/gesundheit-wohlbefinden/vortrag-raus-aus-der-erschoepfung-7439291787544386451.html
END:VEVENT
END:VCALENDAR