BEGIN:VCALENDAR
VERSION:2.0
PRODID:EVENTFROG//EVENT//ICAL
BEGIN:VEVENT
UID:20260423T172717Z-7438892617075533652@eventfrog.at
DTSTAMP:20260423T172717Z
DTSTART:20261120T183000Z
DTEND:20261120T225900Z
SUMMARY:Dance Night Glarnerland
DESCRIPTION:Fetzige Tanzparty im Glarnerland! Tanze zu Discofox, Jive, Salsa und mehr. Sichere dir dein Ticket für eine schwungvolle Nacht im Fabriktheater Schwanden.\n\nhttps://eventfrog.at/de/p/partys/sonstige-partys/dance-night-glarnerland-7438892617075533652.html
LOCATION:Fabriktheater
GEO:46.995270;9.081331
URL:https://eventfrog.at/de/p/partys/sonstige-partys/dance-night-glarnerland-7438892617075533652.html
END:VEVENT
END:VCALENDAR