BEGIN:VCALENDAR
VERSION:2.0
PRODID:EVENTFROG//EVENT//ICAL
BEGIN:VEVENT
UID:20260423T172835Z-7438892284664410794@eventfrog.at
DTSTAMP:20260423T172835Z
DTSTART:20261031T183000Z
DTEND:20261031T225900Z
SUMMARY:Dance Night Glarnerland
DESCRIPTION:Fetzige Tanzparty im Glarnerland! Tanze zu Discofox, Jive, Salsa und mehr. Sichere dir dein Ticket für eine schwungvolle Nacht im Fabriktheater Schwanden.\n\nhttps://eventfrog.at/de/p/partys/sonstige-partys/dance-night-glarnerland-7438892284664410794.html
LOCATION:Fabriktheater
GEO:46.995270;9.081331
URL:https://eventfrog.at/de/p/partys/sonstige-partys/dance-night-glarnerland-7438892284664410794.html
END:VEVENT
END:VCALENDAR