BEGIN:VCALENDAR
VERSION:2.0
PRODID:EVENTFROG//EVENT//ICAL
BEGIN:VEVENT
UID:20260422T032628Z-7438632090323681650@eventfrog.at
DTSTAMP:20260422T032628Z
DTSTART:20260628T150000Z
DTEND:20260628T161500Z
SUMMARY:QUEEN – A NIGHT AT THE ORCHESTRA
DESCRIPTION:Ein Konzert der Berner Acapella Student*innen und des Ensemble Incanto\n\nhttps://eventfrog.at/de/p/konzerte/chor/queen-a-night-at-the-orchestra-7438632090323681650.html
LOCATION:Kath. Kirchgemeindehaus Langenthal
GEO:47.219135;7.783883
URL:https://eventfrog.at/de/p/konzerte/chor/queen-a-night-at-the-orchestra-7438632090323681650.html
END:VEVENT
END:VCALENDAR