BEGIN:VCALENDAR
VERSION:2.0
PRODID:EVENTFROG//EVENT//ICAL
BEGIN:VEVENT
UID:20260422T032639Z-7438632090235600741@eventfrog.at
DTSTAMP:20260422T032639Z
DTSTART:20260626T180000Z
DTEND:20260626T191500Z
SUMMARY:QUEEN – A NIGHT AT THE ORCHESTRA
DESCRIPTION:Ein Konzert der Berner Acapella Student*innen und des Ensemble Incanto\n\nhttps://eventfrog.at/de/p/konzerte/chor/queen-a-night-at-the-orchestra-7438632090235600741.html
LOCATION:Kath. Kirchgemeindehaus Langenthal
GEO:47.219135;7.783883
URL:https://eventfrog.at/de/p/konzerte/chor/queen-a-night-at-the-orchestra-7438632090235600741.html
END:VEVENT
END:VCALENDAR