BEGIN:VCALENDAR
VERSION:2.0
PRODID:EVENTFROG//EVENT//ICAL
BEGIN:VEVENT
UID:20260422T071510Z-7438360499601820371@eventfrog.at
DTSTAMP:20260422T071510Z
DTSTART:20260508T180000Z
SUMMARY:Der Kirschgarten
DESCRIPTION:Der Kirschgarten\n\nhttps://eventfrog.at/de/p/theater-buehne/der-kirschgarten-7438360499601820371.html
LOCATION:Spiegelhalle
GEO:47.657818;9.177743
URL:https://eventfrog.at/de/p/theater-buehne/der-kirschgarten-7438360499601820371.html
END:VEVENT
END:VCALENDAR