BEGIN:VCALENDAR
VERSION:2.0
PRODID:EVENTFROG//EVENT//ICAL
BEGIN:VEVENT
UID:20260423T160054Z-7438250298181713970@eventfrog.at
DTSTAMP:20260423T160054Z
DTSTART:20270109T091500Z
DTEND:20270110T150000Z
SUMMARY:Kälteweekend Obersee
DESCRIPTION:Am Obersee und Walensee bei Näfels bietet ein unvergessliches Weekend geübten Kaltbadenden Eisloch bohren, Eisbaden, Kältewanderung, Atem- und Meditationsübungen.\n\nhttps://eventfrog.at/de/p/kurse-seminare/freizeit-hobby/kaelteweekend-obersee-7438250298181713970.html
LOCATION:Näfels
GEO:47.086794;9.017348
URL:https://eventfrog.at/de/p/kurse-seminare/freizeit-hobby/kaelteweekend-obersee-7438250298181713970.html
END:VEVENT
END:VCALENDAR