BEGIN:VCALENDAR
VERSION:2.0
PRODID:EVENTFROG//EVENT//ICAL
BEGIN:VEVENT
UID:20260422T013200Z-7438219712230609556@eventfrog.at
DTSTAMP:20260422T013200Z
DTSTART:20260424T180000Z
DTEND:20260424T200000Z
SUMMARY:WORT*reich – Poetry Slam Show
DESCRIPTION:Buchstabenzauber und einmalige Performances von Poet*innen: Dies erwartet das Publikum an diesem besonderen Abend. Am 24. April 2026 um 20:00 Uhr.\n\nhttps://eventfrog.at/de/p/theater-buehne/poetry-slam/wort-reich-poetry-slam-show-7438219712230609556.html
LOCATION:Kunst- und Kulturhaus VISAVIS
GEO:46.948500;7.454302
URL:https://eventfrog.at/de/p/theater-buehne/poetry-slam/wort-reich-poetry-slam-show-7438219712230609556.html
END:VEVENT
END:VCALENDAR