BEGIN:VCALENDAR
VERSION:2.0
PRODID:EVENTFROG//EVENT//ICAL
BEGIN:VEVENT
UID:20260422T055859Z-7437978747356087900@eventfrog.at
DTSTAMP:20260422T055859Z
DTSTART:20260422T170000Z
DTEND:20260422T190000Z
SUMMARY:4e Grimpée Pringy-Moléson (TdC #3)
DESCRIPTION:La course de côte de Pringy revient pour sa 4e édition, avec un parcours de 4,9 km et 373 m D+ au départ de la Maison du Gruyère.\n\nhttps://eventfrog.at/fr/p/sport-fitness/cyclisme/4e-grimpee-pringy-moleson-tdc-3-7437978747356087900.html
LOCATION:Maison du Gruyère
GEO:46.581947;7.072698
URL:https://eventfrog.at/fr/p/sport-fitness/cyclisme/4e-grimpee-pringy-moleson-tdc-3-7437978747356087900.html
END:VEVENT
END:VCALENDAR