BEGIN:VCALENDAR
VERSION:2.0
PRODID:EVENTFROG//EVENT//ICAL
BEGIN:VEVENT
UID:20260422T013223Z-7437949914892506304@eventfrog.at
DTSTAMP:20260422T013223Z
DTSTART:20260430T130000Z
DTEND:20260430T160000Z
SUMMARY:Konferenz: Behavior Change in Unternehmen & Politik
DESCRIPTION:wissenschaftliche Ansätze, die wirksame Verhaltensveränderungen ermöglichen\n\nhttps://eventfrog.at/de/p/fuehrungen-vortraege/tagungen-kolloquien/konferenz-behavior-change-in-unternehmen-politik-7437949914892506304.html
LOCATION:Berner Fachhochschule BFH, Wirtschaft
GEO:46.941891;7.440584
URL:https://eventfrog.at/de/p/fuehrungen-vortraege/tagungen-kolloquien/konferenz-behavior-change-in-unternehmen-politik-7437949914892506304.html
END:VEVENT
END:VCALENDAR