BEGIN:VCALENDAR
VERSION:2.0
PRODID:EVENTFROG//EVENT//ICAL
BEGIN:VEVENT
UID:20260423T160023Z-7437839974207074797@eventfrog.at
DTSTAMP:20260423T160023Z
DTSTART:20260526T170000Z
DTEND:20260526T180000Z
SUMMARY:Flow, Kurven & Kontrolle
DESCRIPTION:Kurs für Jugendliche und Erwachsene zur Verbesserung des Fahrstils mit Fokus auf Kurventechnik, Balance und Kontrolle im Gelände.\n\nhttps://eventfrog.at/de/p/kurse-seminare/freizeit-hobby/flow-kurven-kontrolle-7437839974207074797.html
LOCATION:Lintharena
GEO:47.108094;9.065551
URL:https://eventfrog.at/de/p/kurse-seminare/freizeit-hobby/flow-kurven-kontrolle-7437839974207074797.html
END:VEVENT
END:VCALENDAR