BEGIN:VCALENDAR
VERSION:2.0
PRODID:EVENTFROG//EVENT//ICAL
BEGIN:VEVENT
UID:20260423T160028Z-7437837156280702283@eventfrog.at
DTSTAMP:20260423T160028Z
DTSTART:20260526T160000Z
DTEND:20260526T170000Z
SUMMARY:Neuer Bike-Kurs: Hase
DESCRIPTION:Kinder ab 8 lernen in drei Kursen sicher kontrolliertes Springen und Droppen auf dem Fahrrad mit Fokus auf Technik und Sicherheit.\n\nhttps://eventfrog.at/de/p/kinderveranstaltungen/kurs/neuer-bike-kurs-hase-7437837156280702283.html
LOCATION:Lintharena
GEO:47.108094;9.065551
URL:https://eventfrog.at/de/p/kinderveranstaltungen/kurs/neuer-bike-kurs-hase-7437837156280702283.html
END:VEVENT
END:VCALENDAR