BEGIN:VCALENDAR
VERSION:2.0
PRODID:EVENTFROG//EVENT//ICAL
BEGIN:VEVENT
UID:20260423T160028Z-7437833583383848428@eventfrog.at
DTSTAMP:20260423T160028Z
DTSTART:20260526T150000Z
DTEND:20260526T160000Z
SUMMARY:Neuer Bike-Kurs: Flamingo
DESCRIPTION:Kinderkurs Flamingo lehrt Slalom, Gleichgewicht und Bremstechniken, 3x60 Min. ab 26.5., Preis CHF 60, ab 6 Jahren.\n\nhttps://eventfrog.at/de/p/kurse-seminare/sport-fitness/neuer-bike-kurs-flamingo-7437833583383848428.html
LOCATION:Lintharena
GEO:47.108094;9.065551
URL:https://eventfrog.at/de/p/kurse-seminare/sport-fitness/neuer-bike-kurs-flamingo-7437833583383848428.html
END:VEVENT
END:VCALENDAR