BEGIN:VCALENDAR
VERSION:2.0
PRODID:EVENTFROG//EVENT//ICAL
BEGIN:VEVENT
UID:20260422T055814Z-7437635472241769426@eventfrog.at
DTSTAMP:20260422T055814Z
DTSTART:20260423T173000Z
DTEND:20260423T183000Z
SUMMARY:Das andere Buch an der Uni - Caroline Roger präsentiert "Unt
DESCRIPTION:Moderierte Lesung.\n\nhttps://eventfrog.at/de/p/theater-buehne/das-andere-buch-an-der-uni-caroline-roger-praesentiert-unt-7437635472241769426.html
LOCATION:Universität St.Gallen
GEO:47.431756;9.374586
URL:https://eventfrog.at/de/p/theater-buehne/das-andere-buch-an-der-uni-caroline-roger-praesentiert-unt-7437635472241769426.html
END:VEVENT
END:VCALENDAR