BEGIN:VCALENDAR
VERSION:2.0
PRODID:EVENTFROG//EVENT//ICAL
BEGIN:VEVENT
UID:20260422T055824Z-7437579977283868331@eventfrog.at
DTSTAMP:20260422T055824Z
DTSTART:20260422T180000Z
DTEND:20260422T200000Z
SUMMARY:Khirki @ Toms Beer Box
DESCRIPTION:Das Metal-Trio Khirki aus Athen spielt am 29. Juni im Toms Beer Box in Chur auf. Eintritt 15 CHF, Beginn 21 Uhr.\n\nhttps://eventfrog.at/de/p/konzerte/hard-rock-heavy-metal/khirki-toms-beer-box-7437579977283868331.html
LOCATION:Toms Beer Box
GEO:46.848643;9.530469
URL:https://eventfrog.at/de/p/konzerte/hard-rock-heavy-metal/khirki-toms-beer-box-7437579977283868331.html
END:VEVENT
END:VCALENDAR