BEGIN:VCALENDAR
VERSION:2.0
PRODID:EVENTFROG//EVENT//ICAL
BEGIN:VEVENT
UID:20260422T044116Z-7436783635565430526@eventfrog.at
DTSTAMP:20260422T044116Z
DTSTART:20260423T170000Z
DTEND:20260423T190000Z
SUMMARY:ADHS bei Erwachsenen - Vortrag von Peggy Jurt
DESCRIPTION:Vortrag von Peggy Jurt über ADHS bei Erwachsenen, Symptome, Diagnosen und Bewältigung; Eintritt frei, Anmeldung erforderlich.\n\nhttps://eventfrog.at/de/p/fuehrungen-vortraege/vortrag/adhs-bei-erwachsenen-vortrag-von-peggy-jurt-7436783635565430526.html
LOCATION:Gemeindebibliothek Möhlin
GEO:47.560190;7.843078
URL:https://eventfrog.at/de/p/fuehrungen-vortraege/vortrag/adhs-bei-erwachsenen-vortrag-von-peggy-jurt-7436783635565430526.html
END:VEVENT
END:VCALENDAR