BEGIN:VCALENDAR
VERSION:2.0
PRODID:EVENTFROG//EVENT//ICAL
BEGIN:VEVENT
UID:20260424T112506Z-7435719516372393550@eventfrog.at
DTSTAMP:20260424T112506Z
DTSTART:20260518T180000Z
DTEND:20260518T193000Z
SUMMARY:Comedy Kiss Presents: ALOK - Basel
DESCRIPTION:Flippant and Fabulous. Wicked sharp and delightfully Silly. Join ALOK for an unmissable evening.\n\nhttps://eventfrog.at/en/p/theatre-stage/comedy-cabaret/comedy-kiss-presents-alok-basel-7435719516372393550.html
LOCATION:Stadtcasino Basel, Konzertgasse 1, 4051 Basel
GEO:47.554116;7.590076
URL:https://eventfrog.at/en/p/theatre-stage/comedy-cabaret/comedy-kiss-presents-alok-basel-7435719516372393550.html
END:VEVENT
END:VCALENDAR