BEGIN:VCALENDAR
VERSION:2.0
PRODID:EVENTFROG//EVENT//ICAL
BEGIN:VEVENT
UID:20260422T045244Z-7435671956555337021@eventfrog.at
DTSTAMP:20260422T045244Z
DTSTART:20260422T163000Z
SUMMARY:Öffentliche Führung - HINTER GLAS
DESCRIPTION:Öffentliche Führung in der Ausstellung HINTER GLAS  mit der Kuratorin Bettina Staub. Schwerpunkt der Führung liegt auf der historischen Hinterglasmalerei. \n\nhttps://eventfrog.at/de/p/fuehrungen-vortraege/fuehrung/oeffentliche-fuehrung-hinter-glas-7435671956555337021.html
LOCATION:Nidwaldner Museum Winkelriedhaus
GEO:46.955531;8.372513
URL:https://eventfrog.at/de/p/fuehrungen-vortraege/fuehrung/oeffentliche-fuehrung-hinter-glas-7435671956555337021.html
END:VEVENT
END:VCALENDAR