BEGIN:VCALENDAR
VERSION:2.0
PRODID:EVENTFROG//EVENT//ICAL
BEGIN:VEVENT
UID:20260422T055959Z-7435621390298946598@eventfrog.at
DTSTAMP:20260422T055959Z
DTSTART:20260422T180000Z
DTEND:20260422T195000Z
SUMMARY:The ones we love: "Drive"
DESCRIPTION:Aus der THE ONES WE LOVE CLASSIC-Filmreihe zeigen wir DRIVE von Nicolas Winding Refn aus dem Jahr 2011. Die Filme sind immer in der Originalversion mit deutschen Untertiteln und ohne Pause.\n\nhttps://eventfrog.at/de/p/freizeit-ausfluege/film-kino/the-ones-we-love-drive-7435621390298946598.html
LOCATION:Cinewil
GEO:47.463280;9.041600
URL:https://eventfrog.at/de/p/freizeit-ausfluege/film-kino/the-ones-we-love-drive-7435621390298946598.html
END:VEVENT
END:VCALENDAR