BEGIN:VCALENDAR
VERSION:2.0
PRODID:EVENTFROG//EVENT//ICAL
BEGIN:VEVENT
UID:20260422T045302Z-7435584956141671865@eventfrog.at
DTSTAMP:20260422T045302Z
DTSTART:20260423T140000Z
DTEND:20260423T210000Z
SUMMARY:SRF Bounce Cypher Public Viewing
DESCRIPTION:Public Viewing des SRF Bounce Cypher\n\nhttps://eventfrog.at/de/p/diverses/srf-bounce-cypher-public-viewing-7435584956141671865.html
LOCATION:Gare de Lion
GEO:47.461330;9.032780
URL:https://eventfrog.at/de/p/diverses/srf-bounce-cypher-public-viewing-7435584956141671865.html
END:VEVENT
END:VCALENDAR