BEGIN:VCALENDAR
VERSION:2.0
PRODID:EVENTFROG//EVENT//ICAL
BEGIN:VEVENT
UID:20260423T143641Z-7435096190700515324@eventfrog.at
DTSTAMP:20260423T143641Z
DTSTART:20260926T173000Z
DTEND:20260926T193000Z
SUMMARY:Toni Vescoli: Solo – Programm Wunschkonzert
DESCRIPTION:Programm aus den Wünschen seiner Fans.\n\nhttps://eventfrog.at/de/p/konzerte/toni-vescoli-solo-programm-wunschkonzert-7435096190700515324.html
LOCATION:Gemeindezentrum Schwanden
GEO:46.992640;9.068830
URL:https://eventfrog.at/de/p/konzerte/toni-vescoli-solo-programm-wunschkonzert-7435096190700515324.html
END:VEVENT
END:VCALENDAR