BEGIN:VCALENDAR
VERSION:2.0
PRODID:EVENTFROG//EVENT//ICAL
BEGIN:VEVENT
UID:20260422T013220Z-7435094116206168478@eventfrog.at
DTSTAMP:20260422T013220Z
DTSTART:20260425T200000Z
DTEND:20260425T200000Z
SUMMARY:Tsehaye Yohannes Bern City
DESCRIPTION:Join us for a powerful night of music with legendary Eritrean artist Tsehaye Yohannes live in Bern!\nOn April 25, 2026, experience an unforgettable concert filled with iconic hits, emotional ballads. \n\nhttps://eventfrog.at/de/p/konzerte/country/tsehaye-yohannes-bern-city-7435094116206168478.html
LOCATION:Stauffacherstrasse
GEO:46.966756;7.457736
URL:https://eventfrog.at/de/p/konzerte/country/tsehaye-yohannes-bern-city-7435094116206168478.html
END:VEVENT
END:VCALENDAR