BEGIN:VCALENDAR
VERSION:2.0
PRODID:EVENTFROG//EVENT//ICAL
BEGIN:VEVENT
UID:20260419T130420Z-7434584296281648190@eventfrog.at
DTSTAMP:20260419T130420Z
DTSTART:20260919T120000Z
DTEND:20260919T150000Z
SUMMARY:Mach mit beim Clean-Up-Day 2026 - Grenchen räumt auf!
DESCRIPTION:Grenchen beteiligt sich am nationalen Clean-Up-Day mit einer grossen Sammelaktion gegen Littering. Unter dem Stadtdach gibt es ein Helfer-Zvieri sowie eine Spiel- und Bastelecke für Kinder. Mach mit!\n\nhttps://eventfrog.at/de/p/politik-gemeinde/gemeinde/mach-mit-beim-clean-up-day-2026-grenchen-raeumt-auf-7434584296281648190.html
LOCATION:Marktplatz Stadtdach
GEO:47.193009;7.396963
URL:https://eventfrog.at/de/p/politik-gemeinde/gemeinde/mach-mit-beim-clean-up-day-2026-grenchen-raeumt-auf-7434584296281648190.html
END:VEVENT
END:VCALENDAR