BEGIN:VCALENDAR
VERSION:2.0
PRODID:EVENTFROG//EVENT//ICAL
BEGIN:VEVENT
UID:20260422T033947Z-7432453847321210332@eventfrog.at
DTSTAMP:20260422T033947Z
DTSTART:20260423T160000Z
DTEND:20260423T190000Z
SUMMARY:Escape Dinner Röschtifarm Schinznach Dorf
DESCRIPTION:Escape Dinner löst das Geheimnis der letzten Weinflasche \n\nhttps://eventfrog.at/de/p/essen-trinken/escape-dinner-roeschtifarm-schinznach-dorf-7432453847321210332.html
LOCATION:Röschtifarm Bözenegg
GEO:47.456493;8.131027
URL:https://eventfrog.at/de/p/essen-trinken/escape-dinner-roeschtifarm-schinznach-dorf-7432453847321210332.html
END:VEVENT
END:VCALENDAR