BEGIN:VCALENDAR
VERSION:2.0
PRODID:EVENTFROG//EVENT//ICAL
BEGIN:VEVENT
UID:20260423T143707Z-7432335729361962321@eventfrog.at
DTSTAMP:20260423T143707Z
DTSTART:20260919T183000Z
SUMMARY:Heimat - Schlagerparty im Holästei
DESCRIPTION:Heimat Musig präsentiert mit Robin Marc authentische Schweizer Live-Schlagermusik an verschiedenen Anlässen.\n\nhttps://eventfrog.at/de/p/konzerte/schlager-volksmusik/heimat-schlagerparty-im-holaestei-7432335729361962321.html
LOCATION:Kulturzentrum Holästei
GEO:47.029800;8.958980
URL:https://eventfrog.at/de/p/konzerte/schlager-volksmusik/heimat-schlagerparty-im-holaestei-7432335729361962321.html
END:VEVENT
END:VCALENDAR