BEGIN:VCALENDAR
VERSION:2.0
PRODID:EVENTFROG//EVENT//ICAL
BEGIN:VEVENT
UID:20260422T033948Z-7430261860543242398@eventfrog.at
DTSTAMP:20260422T033948Z
DTSTART:20260423T080000Z
DTEND:20260423T120000Z
SUMMARY:Männerkochen 60plus
DESCRIPTION:Männer kochen gemeinsam, Essen um 12 Uhr offen für alle, Anmeldung bis Donnerstag erforderlich.\n\nhttps://eventfrog.at/de/p/essen-trinken/maennerkochen-60plus-7430261860543242398.html
LOCATION:Im Pfarreizentrum der katholischen Kirche Bülach
GEO:47.521129;8.535628
URL:https://eventfrog.at/de/p/essen-trinken/maennerkochen-60plus-7430261860543242398.html
END:VEVENT
END:VCALENDAR