BEGIN:VCALENDAR
VERSION:2.0
PRODID:EVENTFROG//EVENT//ICAL
BEGIN:VEVENT
UID:20260422T045246Z-7428391925734982971@eventfrog.at
DTSTAMP:20260422T045246Z
DTSTART:20260423T180000Z
DTEND:20260423T193000Z
SUMMARY:Dai Kimoto & his Swing Kids
DESCRIPTION:Die «Swing Kids» – unter der Leitung von Dai Kimoto - aus dem Thurgauer und St. Galler Bodenseeraum – spielen Jazz- und Big-Band-Sound auf sehr hohem Niveau.\n\nhttps://eventfrog.at/de/p/konzerte/swing/dai-kimoto-his-swing-kids-7428391925734982971.html
LOCATION:Evangelische Kirche Oberuzwil
GEO:47.429062;9.121983
URL:https://eventfrog.at/de/p/konzerte/swing/dai-kimoto-his-swing-kids-7428391925734982971.html
END:VEVENT
END:VCALENDAR