BEGIN:VCALENDAR
VERSION:2.0
PRODID:EVENTFROG//EVENT//ICAL
BEGIN:VEVENT
UID:20260422T033950Z-7426973664396979013@eventfrog.at
DTSTAMP:20260422T033950Z
DTSTART:20260423T180000Z
SUMMARY:Baze
DESCRIPTION:Baze kehrt mit seinem Soloprojekt zurück nach Rubigen! Und wer Baze kennt, weiss: Live ist das nicht einfach ein Konzert. Es ist ein Statement!\n\nhttps://eventfrog.at/de/p/konzerte/hip-hop-rap/baze-7426973664396979013.html
LOCATION:Mühle Hunziken
GEO:46.890789;7.541809
URL:https://eventfrog.at/de/p/konzerte/hip-hop-rap/baze-7426973664396979013.html
END:VEVENT
END:VCALENDAR