BEGIN:VCALENDAR
VERSION:2.0
PRODID:EVENTFROG//EVENT//ICAL
BEGIN:VEVENT
UID:20260422T045347Z-7425230475151560540@eventfrog.at
DTSTAMP:20260422T045347Z
DTSTART:20260618T070000Z
DTEND:20260618T090000Z
SUMMARY:Kultur(en)café
DESCRIPTION:Im Kultur(en)café treffen dich Neuzuzüger:innen und Kulturinteressierte zum gegenseitigen Kennenlernen und Austauschen.\n\nhttps://eventfrog.at/de/p/diverses/kultur-en-cafe-7425230475151560540.html
LOCATION:Katholisches Pfarreizentrum
GEO:47.243879;7.972085
URL:https://eventfrog.at/de/p/diverses/kultur-en-cafe-7425230475151560540.html
END:VEVENT
END:VCALENDAR