BEGIN:VCALENDAR
VERSION:2.0
PRODID:EVENTFROG//EVENT//ICAL
BEGIN:VEVENT
UID:20260422T045305Z-7425209928262927534@eventfrog.at
DTSTAMP:20260422T045305Z
DTSTART:20260528T060000Z
DTEND:20260528T143000Z
SUMMARY:CZV - Alternative Antriebe und Assistenzsysteme
DESCRIPTION:Erfahren Sie mehr über alternative Fahrzeugtechnologien und Fahrerassistenzsysteme für den Transportsektor. Ziele: Kenntnis verschiedener Antriebsarten, Funktionsweise, Grenzen von Assistenzsystemen.\n\nhttps://eventfrog.at/de/p/kurse-seminare/berufliche-bildung/czv-alternative-antriebe-und-assistenzsysteme-7425209928262927534.html
LOCATION:Industriestrasse 17
GEO:47.271491;8.445629
URL:https://eventfrog.at/de/p/kurse-seminare/berufliche-bildung/czv-alternative-antriebe-und-assistenzsysteme-7425209928262927534.html
END:VEVENT
END:VCALENDAR