BEGIN:VCALENDAR
VERSION:2.0
PRODID:EVENTFROG//EVENT//ICAL
BEGIN:VEVENT
UID:20260422T055959Z-7424949493689248031@eventfrog.at
DTSTAMP:20260422T055959Z
DTSTART:20260422T173000Z
SUMMARY:Eure Partnerschaft. Deine Herzenssache.
DESCRIPTION:Eure Partnerschaft. Deine Herzenssache.\n\nhttps://eventfrog.at/de/p/wissenschaft-und-technik/eure-partnerschaft-deine-herzenssache-7424949493689248031.html
LOCATION:Gesundheitszentrum Sokrates
GEO:47.610032;9.298052
URL:https://eventfrog.at/de/p/wissenschaft-und-technik/eure-partnerschaft-deine-herzenssache-7424949493689248031.html
END:VEVENT
END:VCALENDAR