BEGIN:VCALENDAR
VERSION:2.0
PRODID:EVENTFROG//EVENT//ICAL
BEGIN:VEVENT
UID:20260422T044116Z-7424224493915095672@eventfrog.at
DTSTAMP:20260422T044116Z
DTSTART:20260422T180000Z
DTEND:20260422T200000Z
SUMMARY:Pubquiz@fabriggli
DESCRIPTION:Es ist wieder Pubquiz-Time im fabriggli! Wohl nirgendwo sonst macht es mehr Spass zu gewinnen und weniger Mühe zu verlieren. Unser Pubquiz ist schnell ausverkau\n\nhttps://eventfrog.at/de/p/diverses/pubquiz-fabriggli-7424224493915095672.html
LOCATION:fabriggli, werdenberger kleintheater
GEO:47.162967;9.471131
URL:https://eventfrog.at/de/p/diverses/pubquiz-fabriggli-7424224493915095672.html
END:VEVENT
END:VCALENDAR