BEGIN:VCALENDAR
VERSION:2.0
PRODID:EVENTFROG//EVENT//ICAL
BEGIN:VEVENT
UID:20260422T045300Z-7422617198626143460@eventfrog.at
DTSTAMP:20260422T045300Z
DTSTART:20260422T120000Z
SUMMARY:Gschechte Cheschte – Heidi
DESCRIPTION:Mario Schubiger erzählt Heidi von Johanna Spyri mit Musik und Bildern; die Benefizveranstaltung unterstützt SOS Kinderdörfer.\n\nhttps://eventfrog.at/de/p/kinderveranstaltungen/familienveranstaltungen/gschechte-cheschte-heidi-7422617198626143460.html
LOCATION:Kulturmühle Horw
GEO:47.015713;8.310742
URL:https://eventfrog.at/de/p/kinderveranstaltungen/familienveranstaltungen/gschechte-cheschte-heidi-7422617198626143460.html
END:VEVENT
END:VCALENDAR