BEGIN:VCALENDAR
VERSION:2.0
PRODID:EVENTFROG//EVENT//ICAL
BEGIN:VEVENT
UID:20260423T172922Z-7422050751654952855@eventfrog.at
DTSTAMP:20260423T172922Z
DTSTART:20260906T114500Z
DTEND:20260906T124500Z
SUMMARY:Führung durch die Dauerausstellung
DESCRIPTION:Die Stationen des Lebens von Anna Göldi.\n\nhttps://eventfrog.at/de/p/wissenschaft-und-technik/fuehrung-durch-die-dauerausstellung-7422050751654952855.html
LOCATION:Anna Göldi Museum
GEO:47.037301;9.075172
URL:https://eventfrog.at/de/p/wissenschaft-und-technik/fuehrung-durch-die-dauerausstellung-7422050751654952855.html
END:VEVENT
END:VCALENDAR