BEGIN:VCALENDAR
VERSION:2.0
PRODID:EVENTFROG//EVENT//ICAL
BEGIN:VEVENT
UID:20260423T172159Z-7422050750820286353@eventfrog.at
DTSTAMP:20260423T172159Z
DTSTART:20260502T140000Z
DTEND:20260502T150000Z
SUMMARY:Führung durch die Dauerausstellung
DESCRIPTION:Die Stationen des Lebens von Anna Göldi.\n\nhttps://eventfrog.at/de/p/wissenschaft-und-technik/fuehrung-durch-die-dauerausstellung-7422050750820286353.html
LOCATION:Anna Göldi Museum
GEO:47.037301;9.075172
URL:https://eventfrog.at/de/p/wissenschaft-und-technik/fuehrung-durch-die-dauerausstellung-7422050750820286353.html
END:VEVENT
END:VCALENDAR